BEGIN:VCALENDAR
VERSION:2.0
PRODID:-//Mamlokstiftung - ECPv5.8.1//NONSGML v1.0//EN
CALSCALE:GREGORIAN
METHOD:PUBLISH
X-WR-CALNAME:Mamlokstiftung
X-ORIGINAL-URL:https://www.mamlokstiftung.com
X-WR-CALDESC:Events for Mamlokstiftung
BEGIN:VTIMEZONE
TZID:Europe/Berlin
BEGIN:DAYLIGHT
TZOFFSETFROM:+0100
TZOFFSETTO:+0200
TZNAME:CEST
DTSTART:20210328T010000
END:DAYLIGHT
BEGIN:STANDARD
TZOFFSETFROM:+0200
TZOFFSETTO:+0100
TZNAME:CET
DTSTART:20211031T010000
END:STANDARD
END:VTIMEZONE
BEGIN:VEVENT
DTSTART;TZID=Europe/Berlin:20210927T080000
DTEND;TZID=Europe/Berlin:20210930T170000
DTSTAMP:20210914T155123
CREATED:20210902T105142Z
LAST-MODIFIED:20210902T105331Z
UID:1976-1632729600-1633021200@www.mamlokstiftung.com
SUMMARY:SoundWalk Berlin - Monat der zeitgenössischen Musik
DESCRIPTION:27.08.–30.09.2021\nEnsemble Zafraan u. a.\nSound Walk in Berlin – Webseite \n \nZafraan Ensemble »UA Berlin:\nDie 1920er: Exil« – Ursula Mamlok: From My Garden (1983) \nZafraan Ensemble »UA Berlin: Die 1920er:\nExil« – Ursula Mamlok: Five Bagatelles (1988) \nund Werke von vielen anderen wie Feldman\, Webern\, Wolpe\, Simon Phillips \nIn einer Reihe mit zehn Kammerkonzerten erzählt das Zafraan Ensemble die Geschichte Berlins von den 1910er Jahren bis heute als eine musikalische. Jeder der Konzertabende steht für eine Dekade\, bei dem ein in diesem Jahrzehnt in Berlin uraufgeführtes Werk den programmatischen Auslöser bildet. \nFür den Sound Walk Berlin hat das Ensemble eine Route erstellt\, die das Berlin der 20iger Jahre musikalisch nachvollzieht\, in denen es unweigerlich auch ums Exil geht.
URL:https://www.mamlokstiftung.com/veranstaltung/soundwalk-berlin-monat-der-zeitgenossischen-musik/
ATTACH;FMTTYPE=image/jpeg:https://www.mamlokstiftung.com/wp-content/uploads/2021/09/soundwalk1.jpg
END:VEVENT
END:VCALENDAR