BEGIN:VCALENDAR
VERSION:2.0
PRODID:-//Mamlokstiftung - ECPv5.5.0.1//NONSGML v1.0//EN
CALSCALE:GREGORIAN
METHOD:PUBLISH
X-WR-CALNAME:Mamlokstiftung
X-ORIGINAL-URL:https://www.mamlokstiftung.com
X-WR-CALDESC:Events for Mamlokstiftung
BEGIN:VTIMEZONE
TZID:Europe/Berlin
BEGIN:DAYLIGHT
TZOFFSETFROM:+0100
TZOFFSETTO:+0200
TZNAME:CEST
DTSTART:20190331T010000
END:DAYLIGHT
BEGIN:STANDARD
TZOFFSETFROM:+0200
TZOFFSETTO:+0100
TZNAME:CET
DTSTART:20191027T010000
END:STANDARD
END:VTIMEZONE
BEGIN:VEVENT
DTSTART;TZID=Europe/Berlin:20190713T193000
DTEND;TZID=Europe/Berlin:20190713T213000
DTSTAMP:20210429T175557
CREATED:20190722T123257Z
LAST-MODIFIED:20190722T133337Z
UID:1229-1563046200-1563053400@www.mamlokstiftung.com
SUMMARY:Unheard-of//Trios
DESCRIPTION:Saturday\, July 13\, 2019\, 7:30 P.M. | Scholes Street Studio | 375 Lorimer St\, Brooklyn\, NY\nUnheard-of//Trios\nFord Fourqurean\, clarinet\nMatheus Souza\, violin\nIssei Herr\, cello \nFive Bagatelles von Ursula Mamlok\nI. Grazioso\nII. Very Calm\nIII. Playful\nIV. Still\, as if suspended\nV. Sprightly \nund mit Werken von\nSeth Boustead\, Melissa Dunphy\, Elliott Carter\, Jeewon Kim\, Sunny Knable
URL:https://www.mamlokstiftung.com/veranstaltung/unheard-of-trios/
LOCATION:Scholes Street Studio\, 375 Lorimer St\, Brooklyn\, NY\, 11206\, United States
ATTACH;FMTTYPE=image/jpeg:https://www.mamlokstiftung.com/wp-content/uploads/2019/07/62579938_2381805878809479_3796636684620136448_o.jpg
END:VEVENT
END:VCALENDAR