BEGIN:VCALENDAR
VERSION:2.0
PRODID:-//Mamlokstiftung - ECPv5.5.0.1//NONSGML v1.0//EN
CALSCALE:GREGORIAN
METHOD:PUBLISH
X-WR-CALNAME:Mamlokstiftung
X-ORIGINAL-URL:https://www.mamlokstiftung.com
X-WR-CALDESC:Events for Mamlokstiftung
BEGIN:VTIMEZONE
TZID:Europe/Berlin
BEGIN:DAYLIGHT
TZOFFSETFROM:+0100
TZOFFSETTO:+0200
TZNAME:CEST
DTSTART:20190331T010000
END:DAYLIGHT
BEGIN:STANDARD
TZOFFSETFROM:+0200
TZOFFSETTO:+0100
TZNAME:CET
DTSTART:20191027T010000
END:STANDARD
END:VTIMEZONE
BEGIN:VEVENT
DTSTART;VALUE=DATE:20190309
DTEND;VALUE=DATE:20190311
DTSTAMP:20210430T122205
CREATED:20190129T190204Z
LAST-MODIFIED:20190308T034451Z
UID:1098-1552089600-1552262399@www.mamlokstiftung.com
SUMMARY:Stray Bird
DESCRIPTION:Philadelphia | German Society of Pennsylvania 611 Spring Garden St.\, Philadelphia\, PA 19123\nSa\, 9.3. 19 Uhr\nSo\, 10.3. 15 Uhr\n \nTicketvorverkauf-Link:\nhttps://german-society-of-pennsylvania.ticketleap.com/stray-bird/details \n \nABOUT STRAY BIRD: An evening of six of Mamlok’s chamber music works\, with dances by three choreographers\, performed by New Chamber Ballet’s excellent dancers and a stellar array of chamber musicians in an up-close\, intimate setting. \nReflecting on themes of loss\, displacement\, rejection\, and reconciliation\, the dances reveal a powerful subtext in Mamlok’s delicate\, abstract chamber music. \nStray Bird was commissioned by the Dwight and Ursula Mamlok Foundation. \nTHE ARTISTS\nChoreography: Miro Magloire\, Rebecca Walden\, Mara Driscoll\nCostumes: Sarah Thea\nDancers: New Chamber Ballet\nSoprano: Cree Carrico\nMusicians: Momenta String Quartet and select soloists \nPraised by the New York Times as “one of the small-scale delights of the New York Dance Scene\,” New Chamber Ballet is dedicated to performing new ballets to contemporary chamber music. The company has been praised for its classic-modern aesthetic and the top-notch musical artists who perform live at all performances. In addition to national and international touring\, New Chamber Ballet continues to present its work in a bi-monthly series at Manhattan’s City Center’s Studios. \nLauded as “refreshingly original” by Alastair Macaulay of the New York Times\, Miro Magloire is the founder and artistic director of New Chamber Ballet\, for which he creates ballets in his signature\, sculpturesque style. Trained as a composer as well as a choreographer\, he is known for his ground-breaking collarborations with musicians and a special affinity for cutting-edge contemporary music as well as for the no-frills\, unaffected aesthetic he has pioneered with New Chamber Ballet.
URL:https://www.mamlokstiftung.com/veranstaltung/stray-bird/
LOCATION:German Society of Pennsylvania\, 611 Spring Garden St.\, Philadelphia\, PA\, 19123\, United States
ATTACH;FMTTYPE=image/jpeg:https://www.mamlokstiftung.com/wp-content/uploads/2019/01/stray-birds.jpg
END:VEVENT
END:VCALENDAR